BEGIN:VCALENDAR
VERSION:2.0
PRODID:-//Parklands Albury Wodonga - ECPv6.15.20//NONSGML v1.0//EN
CALSCALE:GREGORIAN
METHOD:PUBLISH
X-WR-CALNAME:Parklands Albury Wodonga
X-ORIGINAL-URL:https://www.parklands-alburywodonga.org.au
X-WR-CALDESC:Events for Parklands Albury Wodonga
REFRESH-INTERVAL;VALUE=DURATION:PT1H
X-Robots-Tag:noindex
X-PUBLISHED-TTL:PT1H
BEGIN:VTIMEZONE
TZID:Australia/Melbourne
BEGIN:STANDARD
TZOFFSETFROM:+1100
TZOFFSETTO:+1000
TZNAME:AEST
DTSTART:20210403T160000
END:STANDARD
BEGIN:DAYLIGHT
TZOFFSETFROM:+1000
TZOFFSETTO:+1100
TZNAME:AEDT
DTSTART:20211002T160000
END:DAYLIGHT
BEGIN:STANDARD
TZOFFSETFROM:+1100
TZOFFSETTO:+1000
TZNAME:AEST
DTSTART:20220402T160000
END:STANDARD
BEGIN:DAYLIGHT
TZOFFSETFROM:+1000
TZOFFSETTO:+1100
TZNAME:AEDT
DTSTART:20221001T160000
END:DAYLIGHT
BEGIN:STANDARD
TZOFFSETFROM:+1100
TZOFFSETTO:+1000
TZNAME:AEST
DTSTART:20230401T160000
END:STANDARD
BEGIN:DAYLIGHT
TZOFFSETFROM:+1000
TZOFFSETTO:+1100
TZNAME:AEDT
DTSTART:20230930T160000
END:DAYLIGHT
END:VTIMEZONE
BEGIN:VEVENT
DTSTART;VALUE=DATE:20220219
DTEND;VALUE=DATE:20220220
DTSTAMP:20260423T095152
CREATED:20220204T051712Z
LAST-MODIFIED:20220328T014349Z
UID:10000079-1645228800-1645315199@www.parklands-alburywodonga.org.au
SUMMARY:Collecting seed from native plants with Sue Brunskill
DESCRIPTION:Join horticulturist Sue Brunskill for a hands-on introduction to seed collecting. A seasoned bush regenerator and teacher\, Sue is passionate about native plants and their propagation. This workshop will include recognising the different stages of plant reproduction\, knowing when to harvest and different techniques for different local native species. \nWhere: Gateway island Regional Park. Meet on Harris Road (entry on left from Lincoln Causeway heading towards Wodonga)\, just before the Railway Bridge underpass. \nWhat to bring: Bring a shopping bag to carry collected seed in. BYO water bottle\, gardening gloves and hat. Please wear covered shoes and long pants for snake safety. \nPlease Register here  Registration prior to the event is essential for communication\, safety and insurance purposes.
URL:https://www.parklands-alburywodonga.org.au/event/collecting-seed-from-native-plants-with-sue-brunskill/
LOCATION:Gateway Island\, Gateway Island\, Wodonga\, VIC\, 3691\, Australia
ATTACH;FMTTYPE=image/jpeg:https://www.parklands-alburywodonga.org.au/wp-content/uploads/2022/02/bottlebrush-seed.jpg
END:VEVENT
END:VCALENDAR