BEGIN:VCALENDAR
VERSION:2.0
PRODID:-//Parklands Albury Wodonga - ECPv6.15.20//NONSGML v1.0//EN
CALSCALE:GREGORIAN
METHOD:PUBLISH
X-ORIGINAL-URL:https://www.parklands-alburywodonga.org.au
X-WR-CALDESC:Events for Parklands Albury Wodonga
REFRESH-INTERVAL;VALUE=DURATION:PT1H
X-Robots-Tag:noindex
X-PUBLISHED-TTL:PT1H
BEGIN:VTIMEZONE
TZID:Australia/Melbourne
BEGIN:STANDARD
TZOFFSETFROM:+1100
TZOFFSETTO:+1000
TZNAME:AEST
DTSTART:20230401T160000
END:STANDARD
BEGIN:DAYLIGHT
TZOFFSETFROM:+1000
TZOFFSETTO:+1100
TZNAME:AEDT
DTSTART:20230930T160000
END:DAYLIGHT
BEGIN:STANDARD
TZOFFSETFROM:+1100
TZOFFSETTO:+1000
TZNAME:AEST
DTSTART:20240406T160000
END:STANDARD
BEGIN:DAYLIGHT
TZOFFSETFROM:+1000
TZOFFSETTO:+1100
TZNAME:AEDT
DTSTART:20241005T160000
END:DAYLIGHT
BEGIN:STANDARD
TZOFFSETFROM:+1100
TZOFFSETTO:+1000
TZNAME:AEST
DTSTART:20250405T160000
END:STANDARD
BEGIN:DAYLIGHT
TZOFFSETFROM:+1000
TZOFFSETTO:+1100
TZNAME:AEDT
DTSTART:20251004T160000
END:DAYLIGHT
END:VTIMEZONE
BEGIN:VEVENT
DTSTART;TZID=Australia/Melbourne:20240818T090000
DTEND;TZID=Australia/Melbourne:20240818T110000
DTSTAMP:20260422T154443
CREATED:20240611T045131Z
LAST-MODIFIED:20240812T031904Z
UID:10000246-1723971600-1723978800@www.parklands-alburywodonga.org.au
SUMMARY:Community Planting Day
DESCRIPTION:Join Parklands Albury Wodonga for a Community Planting Day on Sunday 18 August\, 9am-11am. This is a free event open to all ages. \nWhat to bring: Closed shoes and long pants as the ground is uneven and might be muddy.\n \nWhat will be provided: All tools\, equipment\, materials\, and gloves (unless you want to bring your own gloves). \nWhere: Paddock off Carrolls Lane\, Wodonga. Go past the Wodonga Railway Station for approximately 980 m following the signs and park in the paddock. See photo below. \nPlease book so we know to expect you!  Bookings here: Community Planting Morning | Humanitix \nAbout this event: After recently installing fencing to exclude stock from the wetland area\, the site is now ready for winter planting of native seedlings to revegetate this Murray River corridor. \nRed dot indicates approximate location. Follow the signs from the Wodonga Railway Station carpark.
URL:https://www.parklands-alburywodonga.org.au/event/community-planting-day/
LOCATION:Carrolls Lane\, Wodonga.\, Carrolls Lane\, Wodonga\, VIC\, 3690\, Australia
ATTACH;FMTTYPE=image/jpeg:https://www.parklands-alburywodonga.org.au/wp-content/uploads/2024/06/Banking-on-trees.jpg
ORGANIZER;CN="Parklands Albury Wodonga":MAILTO:info@parklands-alburywodonga.org.au
END:VEVENT
BEGIN:VEVENT
DTSTART;TZID=Australia/Melbourne:20240804T090000
DTEND;TZID=Australia/Melbourne:20240804T110000
DTSTAMP:20260422T154443
CREATED:20240604T060128Z
LAST-MODIFIED:20240611T041106Z
UID:10000245-1722762000-1722769200@www.parklands-alburywodonga.org.au
SUMMARY:Banking on Trees Community Planting morning 2024
DESCRIPTION:Please join BankWAW and Parklands Albury Wodonga for the annual Banking on Trees community planting morning on Sunday 4 August 2024 from 9am-11am. This is a free event open to all ages. \nWhere: Paddock off Carrolls Lane\, Wodonga. Go past the Wodonga Railway Station for approximately 980 m following the signs and park in the paddock. See photo below. \nWhat to bring: Closed shoes and long pants as the ground is uneven and might be muddy.\n \nWhat will be provided:\n• All tools\, equipment\, materials\, and gloves (unless you want to bring your own gloves).\n• BBQ lunch will include sausages\, bread\, and sauce. Those with special dietary requirements\, please BYO. \nPlease book so we know to expect you!\nBookings here: Banking on Trees Community Planting Morning 2024 | Humanitix \nAbout this event: Did you know that every time an account is opened at BankWAW\, they plant a tree? \nTrees create endless amounts of good. They clean the air we breathe\, filter the water we drink\, and provide habitat to over 80% of the world’s terrestrial biodiversity. \nPlanting a tree is also one of the easiest and cheapest ways to take carbon dioxide out of the atmosphere to tackle the climate crisis. It’s also the easiest way that we\, as individuals\, can reduce our own footprint. \nThrough BankWAW’s Banking on Trees program\, we’re revegetating the bushland of our local communities\, contributing to a better climate\, supporting biodiversity and creating better living conditions for our local communities. \nTurn onto Carrolls Lane from Melrose Drive/Maloney Drive and go past the railway station carpark for approximately 980m (red dot on map).
URL:https://www.parklands-alburywodonga.org.au/event/banking-on-trees-community-planting-morning-2024/
LOCATION:Carrolls Lane\, Wodonga.\, Carrolls Lane\, Wodonga\, VIC\, 3690\, Australia
ATTACH;FMTTYPE=image/jpeg:https://www.parklands-alburywodonga.org.au/wp-content/uploads/2024/06/Banking-on-trees.jpg
END:VEVENT
END:VCALENDAR