BEGIN:VCALENDAR
VERSION:2.0
PRODID:-//Parklands Albury Wodonga - ECPv6.15.20//NONSGML v1.0//EN
CALSCALE:GREGORIAN
METHOD:PUBLISH
X-WR-CALNAME:Parklands Albury Wodonga
X-ORIGINAL-URL:https://www.parklands-alburywodonga.org.au
X-WR-CALDESC:Events for Parklands Albury Wodonga
REFRESH-INTERVAL;VALUE=DURATION:PT1H
X-Robots-Tag:noindex
X-PUBLISHED-TTL:PT1H
BEGIN:VTIMEZONE
TZID:Australia/Melbourne
BEGIN:STANDARD
TZOFFSETFROM:+1100
TZOFFSETTO:+1000
TZNAME:AEST
DTSTART:20230401T160000
END:STANDARD
BEGIN:DAYLIGHT
TZOFFSETFROM:+1000
TZOFFSETTO:+1100
TZNAME:AEDT
DTSTART:20230930T160000
END:DAYLIGHT
BEGIN:STANDARD
TZOFFSETFROM:+1100
TZOFFSETTO:+1000
TZNAME:AEST
DTSTART:20240406T160000
END:STANDARD
BEGIN:DAYLIGHT
TZOFFSETFROM:+1000
TZOFFSETTO:+1100
TZNAME:AEDT
DTSTART:20241005T160000
END:DAYLIGHT
BEGIN:STANDARD
TZOFFSETFROM:+1100
TZOFFSETTO:+1000
TZNAME:AEST
DTSTART:20250405T160000
END:STANDARD
BEGIN:DAYLIGHT
TZOFFSETFROM:+1000
TZOFFSETTO:+1100
TZNAME:AEDT
DTSTART:20251004T160000
END:DAYLIGHT
BEGIN:STANDARD
TZOFFSETFROM:+1100
TZOFFSETTO:+1000
TZNAME:AEST
DTSTART:20260404T160000
END:STANDARD
BEGIN:DAYLIGHT
TZOFFSETFROM:+1000
TZOFFSETTO:+1100
TZNAME:AEDT
DTSTART:20261003T160000
END:DAYLIGHT
END:VTIMEZONE
BEGIN:VEVENT
DTSTART;TZID=Australia/Melbourne:20251218T090000
DTEND;TZID=Australia/Melbourne:20251218T110000
DTSTAMP:20260421T235950
CREATED:20251031T064132Z
LAST-MODIFIED:20251110T205849Z
UID:10000436-1766048400-1766055600@www.parklands-alburywodonga.org.au
SUMMARY:Corrys Wood Community Stewardship Morning
DESCRIPTION:Join Parklands Rangers to help find and remove woody weeds such as false acacia in this beautiful reserve. \nThis is an opportunity to work alongside our Rangers experiencing the ‘how to’ of caring for our local bush.  No experience is necessary – our Rangers will help with weed identification and removal techniques. \nTake in the fresh air\, get close to nature\, and learn about the local environment and how Albury City and community groups are working to protect threatened species\, improve habitat\, and link habitat corridors across the region. \nPlease check the Google Maps link below for the meeting place. \nWhen: 9:00 am to 11:00 am (2 hrs) \nWhere: Meet at the Corrys Wood car park. \nWhat is supplied: All tools and any specific safety equipment needed. \nWhat to bring: BYO drinking water. For your safety\, please wear covered shoes (preferably boots)\, long pants\, long sleeves\, and a hat. \nWho: You can contact Ranger Dan on 0417501352. \nPlease register here! Sometimes things change at the last minute and we need to be able to contact volunteers. \nThank you to Albury City Council for financial support for this program.
URL:https://www.parklands-alburywodonga.org.au/event/padman-park-community-stewardship-morning-3/
LOCATION:Corrys Wood Parklands\, Corrys Rd.\, Thurgoona\, Australia
ATTACH;FMTTYPE=image/jpeg:https://www.parklands-alburywodonga.org.au/wp-content/uploads/2025/10/Corrys-Wood-section-of-Hume-and-Hovell.jpg
ORGANIZER;CN="Parklands Albury Wodonga":MAILTO:info@parklands-alburywodonga.org.au
END:VEVENT
BEGIN:VEVENT
DTSTART;TZID=Australia/Melbourne:20251106T090000
DTEND;TZID=Australia/Melbourne:20251106T110000
DTSTAMP:20260421T235950
CREATED:20251006T052632Z
LAST-MODIFIED:20251006T052632Z
UID:10000432-1762419600-1762426800@www.parklands-alburywodonga.org.au
SUMMARY:Corrys Wood Community Stewardship Morning
DESCRIPTION:Join Parklands Rangers to help find and remove woody weeds such as false acacia in this beautiful reserve. \nThis is an opportunity to work alongside our Rangers experiencing the ‘how to’ of caring for our local bush.  No experience is necessary – our Rangers will help with weed identification and removal techniques. \nTake in the fresh air\, get close to nature\, and learn about the local environment and how Albury City and community groups are working to protect threatened species\, improve habitat\, and link habitat corridors across the region. \nPlease check the Google Maps link below for the meeting place. \nWhen: 9:00 am to 11:00 am (2 hrs) \nWhere: Meet at the Corrys Wood car park. \nWhat is supplied: All tools and any specific safety equipment needed. \nWhat to bring: BYO drinking water. For your safety\, please wear covered shoes (preferably boots)\, long pants\, long sleeves\, and a hat. \nWho: You can contact Ranger Dan on 0417501352. \nPlease register here! Sometimes things change at the last minute and we need to be able to contact volunteers. \nThank you to Albury City Council for financial support for this program.
URL:https://www.parklands-alburywodonga.org.au/event/corrys-wood-community-stewardship-morning-2/
LOCATION:Corrys Wood Parklands\, Corrys Rd.\, Thurgoona\, Australia
ATTACH;FMTTYPE=image/jpeg:https://www.parklands-alburywodonga.org.au/wp-content/uploads/2025/10/Corrys-Wood-section-of-Hume-and-Hovell.jpg
ORGANIZER;CN="Parklands Albury Wodonga":MAILTO:info@parklands-alburywodonga.org.au
END:VEVENT
BEGIN:VEVENT
DTSTART;TZID=Australia/Melbourne:20241128T090000
DTEND;TZID=Australia/Melbourne:20241128T110000
DTSTAMP:20260421T235950
CREATED:20240926T223714Z
LAST-MODIFIED:20241019T022208Z
UID:10000297-1732784400-1732791600@www.parklands-alburywodonga.org.au
SUMMARY:Corrys Wood Community Stewardship Morning
DESCRIPTION:Join Parklands Rangers to help find and remove woody weeds such as Cootamundra wattle\, privet\, olive\, and cherry plum in this beautiful reserve. \nThis is an opportunity to work alongside our Rangers experiencing the ‘how to’ of caring for our local bush.  No experience is necessary – our Rangers will help with weed identification and removal techniques. \nTake in the fresh air\, get close to nature\, and learn about the local environment and how Albury City and community groups are working to protect threatened species\, improve habitat\, and link habitat corridors across the region. \nWhen: 9:00 am to 11:00 am (2 hrs) \nWhere: Meet at the Corrys Wood car park. \nWhat is supplied: All tools and any specific safety equipment needed. \nWhat to bring: BYO drinking water. For your safety\, please wear covered shoes (preferably boots)\, long pants\, long sleeves\, and a hat. \nWho: You can contact Ranger Dan on 0417501352. \nPlease register here! Sometimes things change at the last minute and we need to be able to contact volunteers. \nThank you to Albury City Council for financial support for this program.
URL:https://www.parklands-alburywodonga.org.au/event/corrys-wood-community-stewardship-morning/
LOCATION:Corrys Wood Parklands\, Corrys Rd.\, Thurgoona\, Australia
ATTACH;FMTTYPE=image/jpeg:https://www.parklands-alburywodonga.org.au/wp-content/uploads/2024/09/Corrys-Wood-section-of-Hume-and-Hovell.jpg
ORGANIZER;CN="Parklands Albury Wodonga":MAILTO:info@parklands-alburywodonga.org.au
END:VEVENT
BEGIN:VEVENT
DTSTART;TZID=Australia/Melbourne:20241031T090000
DTEND;TZID=Australia/Melbourne:20241031T110000
DTSTAMP:20260421T235950
CREATED:20240917T033827Z
LAST-MODIFIED:20241019T022037Z
UID:10000284-1730365200-1730372400@www.parklands-alburywodonga.org.au
SUMMARY:Corrys Wood Parklands Community Stewardship Morning
DESCRIPTION:Join Parklands Rangers to help find and remove woody weeds such as Cootamundra wattle\, privet\, olive\, and cherry plum in this beautiful reserve. \nThis is an opportunity to work alongside our Rangers experiencing the ‘how to’ of caring for our local bush.  No experience is necessary – our Rangers will help with weed identification and removal techniques. \nTake in the fresh air\, get close to nature\, and learn about the local environment and how Albury City and community groups are working to protect threatened species\, improve habitat\, and link habitat corridors across the region. \nWhen: 9:00 am to 11:00 am (2 hrs) \nWhere: Meet at the Corrys Wood car park. \nWhat is supplied: All tools and any specific safety equipment needed. \nWhat to bring: BYO drinking water. For your safety\, please wear covered shoes (preferably boots)\, long pants\, long sleeves\, and a hat. \nWho: You can contact Ranger Dan on 0417501352. \nPlease register here! Sometimes things change at the last minute and we need to be able to contact volunteers. \nThank you to Albury City Council for financial support for this program.
URL:https://www.parklands-alburywodonga.org.au/event/corrys-wood-parklands-community-stewardship-morning/
LOCATION:Corrys Wood Parklands\, Corrys Rd.\, Thurgoona\, Australia
ATTACH;FMTTYPE=image/jpeg:https://www.parklands-alburywodonga.org.au/wp-content/uploads/2024/09/Corrys-Wood-section-of-Hume-and-Hovell.jpg
ORGANIZER;CN="Parklands Albury Wodonga":MAILTO:info@parklands-alburywodonga.org.au
END:VEVENT
END:VCALENDAR