BEGIN:VCALENDAR
VERSION:2.0
PRODID:-//Parklands Albury Wodonga - ECPv6.15.20//NONSGML v1.0//EN
CALSCALE:GREGORIAN
METHOD:PUBLISH
X-WR-CALNAME:Parklands Albury Wodonga
X-ORIGINAL-URL:https://www.parklands-alburywodonga.org.au
X-WR-CALDESC:Events for Parklands Albury Wodonga
REFRESH-INTERVAL;VALUE=DURATION:PT1H
X-Robots-Tag:noindex
X-PUBLISHED-TTL:PT1H
BEGIN:VTIMEZONE
TZID:Australia/Melbourne
BEGIN:STANDARD
TZOFFSETFROM:+1100
TZOFFSETTO:+1000
TZNAME:AEST
DTSTART:20230401T160000
END:STANDARD
BEGIN:DAYLIGHT
TZOFFSETFROM:+1000
TZOFFSETTO:+1100
TZNAME:AEDT
DTSTART:20230930T160000
END:DAYLIGHT
BEGIN:STANDARD
TZOFFSETFROM:+1100
TZOFFSETTO:+1000
TZNAME:AEST
DTSTART:20240406T160000
END:STANDARD
BEGIN:DAYLIGHT
TZOFFSETFROM:+1000
TZOFFSETTO:+1100
TZNAME:AEDT
DTSTART:20241005T160000
END:DAYLIGHT
BEGIN:STANDARD
TZOFFSETFROM:+1100
TZOFFSETTO:+1000
TZNAME:AEST
DTSTART:20250405T160000
END:STANDARD
BEGIN:DAYLIGHT
TZOFFSETFROM:+1000
TZOFFSETTO:+1100
TZNAME:AEDT
DTSTART:20251004T160000
END:DAYLIGHT
END:VTIMEZONE
BEGIN:VEVENT
DTSTART;TZID=Australia/Melbourne:20240920T100000
DTEND;TZID=Australia/Melbourne:20240920T120000
DTSTAMP:20260424T175357
CREATED:20240903T061100Z
LAST-MODIFIED:20240903T061100Z
UID:10000268-1726826400-1726833600@www.parklands-alburywodonga.org.au
SUMMARY:Great Southern BioBlitz Nature Walk - Jack Perry Reserve
DESCRIPTION:Join Wodonga Urban Landcare Network and Parklands Albury Wodonga on a slow nature walk through Jack Perry Reserve\, Wodonga. We will be on the lookout for nature observations to upload to iNaturalist for the purpose of adding some regional records to the Great Southern BioBlitz. Karen and Veronica can help you navigate the iNaturalist app. \nWe’ll share tips for noticing nature\, how and why to record what you find\, and how to use the iNaturalist app to help confirm the ID and contribute to biodiversity knowledge. \nWhat to expect: This urban reserve is home to many interesting plants\, animals and fungi. Please be aware that we will be walking on gentle slopes\, on natural\, unpaved and possibly wet surfaces. \nWhat to bring: Your mobile or other camera; dress for the weather and wear closed shoes\, long pants\, and a hat. \nWe suggest downloading the iNaturalist app and creating a user account if you want to add your records from your mobile as we go.\nYou can also just attend the walk for interest if you prefer. Or take photos to add to iNaturalist (or other online platform) after the event. \nMeeting place: At the reserve entrance opposite 54 Axford Boulevard (not on Victoria Cross Parade). \nThis is a free event\, but please register here to let us know you’re coming.
URL:https://www.parklands-alburywodonga.org.au/event/great-southern-bioblitz-nature-walk-jack-perry-reserve/
LOCATION:Jack Perry Reserve\, Wodonga\, Wodonga
ATTACH;FMTTYPE=image/png:https://www.parklands-alburywodonga.org.au/wp-content/uploads/2024/09/GSB-JP-walk-fb-event-cover.png
END:VEVENT
END:VCALENDAR