BEGIN:VCALENDAR
VERSION:2.0
PRODID:-//Parklands Albury Wodonga - ECPv6.15.20//NONSGML v1.0//EN
CALSCALE:GREGORIAN
METHOD:PUBLISH
X-ORIGINAL-URL:https://www.parklands-alburywodonga.org.au
X-WR-CALDESC:Events for Parklands Albury Wodonga
REFRESH-INTERVAL;VALUE=DURATION:PT1H
X-Robots-Tag:noindex
X-PUBLISHED-TTL:PT1H
BEGIN:VTIMEZONE
TZID:Australia/Melbourne
BEGIN:STANDARD
TZOFFSETFROM:+1100
TZOFFSETTO:+1000
TZNAME:AEST
DTSTART:20240406T160000
END:STANDARD
BEGIN:DAYLIGHT
TZOFFSETFROM:+1000
TZOFFSETTO:+1100
TZNAME:AEDT
DTSTART:20241005T160000
END:DAYLIGHT
BEGIN:STANDARD
TZOFFSETFROM:+1100
TZOFFSETTO:+1000
TZNAME:AEST
DTSTART:20250405T160000
END:STANDARD
BEGIN:DAYLIGHT
TZOFFSETFROM:+1000
TZOFFSETTO:+1100
TZNAME:AEDT
DTSTART:20251004T160000
END:DAYLIGHT
BEGIN:STANDARD
TZOFFSETFROM:+1100
TZOFFSETTO:+1000
TZNAME:AEST
DTSTART:20260404T160000
END:STANDARD
BEGIN:DAYLIGHT
TZOFFSETFROM:+1000
TZOFFSETTO:+1100
TZNAME:AEDT
DTSTART:20261003T160000
END:DAYLIGHT
END:VTIMEZONE
BEGIN:VEVENT
DTSTART;TZID=Australia/Melbourne:20250923T093000
DTEND;TZID=Australia/Melbourne:20250923T113000
DTSTAMP:20260422T214159
CREATED:20250811T231113Z
LAST-MODIFIED:20250826T002141Z
UID:10000405-1758619800-1758627000@www.parklands-alburywodonga.org.au
SUMMARY:Invasive Grass ID and Removal in Wodonga
DESCRIPTION:Help us protect our precious native grasslands by learning how to identify African love grass and other garden escapees as well as the various techniques to control these new and emerging grass weed species. We will wander through Kent McKoy and Susan Campbell Reserves in Wodonga\, identifying different grasses and removing the invasive love grass. \nWhen: 9:30 am to 11:30 am. \nWhere: Park on Nordsvan Drive. \nWhat is supplied: All tools and any specific safety equipment needed. \nWhat to bring: BYO drinking water. For your safety\, please wear covered shoes (preferably boots)\, long pants\, long sleeves\, and a hat. \nWho: You can contact Ranger Dan on 0417501352. \nPlease register here! \nThis demonstration day is being delivered in partnership with Friends of Susan Campbell and Kent McKoy Reserve and Wodonga Urban Landcare Network. \nThank you to the Victorian Government for financial support through the Partnerships Against Pest program. \n  \n 
URL:https://www.parklands-alburywodonga.org.au/event/invasive-grass-id-and-removal-in-wodonga/
LOCATION:Kent McKoy Reserve\, Nordsvan Drv.\, Wodonga\, Australia
ATTACH;FMTTYPE=image/jpeg:https://www.parklands-alburywodonga.org.au/wp-content/uploads/2025/08/African-love-grass-fb.jpg
ORGANIZER;CN="Parklands Albury Wodonga":MAILTO:info@parklands-alburywodonga.org.au
END:VEVENT
END:VCALENDAR