BEGIN:VCALENDAR
VERSION:2.0
PRODID:-//Parklands Albury Wodonga - ECPv6.15.20//NONSGML v1.0//EN
CALSCALE:GREGORIAN
METHOD:PUBLISH
X-ORIGINAL-URL:https://www.parklands-alburywodonga.org.au
X-WR-CALDESC:Events for Parklands Albury Wodonga
REFRESH-INTERVAL;VALUE=DURATION:PT1H
X-Robots-Tag:noindex
X-PUBLISHED-TTL:PT1H
BEGIN:VTIMEZONE
TZID:Australia/Melbourne
BEGIN:STANDARD
TZOFFSETFROM:+1100
TZOFFSETTO:+1000
TZNAME:AEST
DTSTART:20210403T160000
END:STANDARD
BEGIN:DAYLIGHT
TZOFFSETFROM:+1000
TZOFFSETTO:+1100
TZNAME:AEDT
DTSTART:20211002T160000
END:DAYLIGHT
BEGIN:STANDARD
TZOFFSETFROM:+1100
TZOFFSETTO:+1000
TZNAME:AEST
DTSTART:20220402T160000
END:STANDARD
BEGIN:DAYLIGHT
TZOFFSETFROM:+1000
TZOFFSETTO:+1100
TZNAME:AEDT
DTSTART:20221001T160000
END:DAYLIGHT
BEGIN:STANDARD
TZOFFSETFROM:+1100
TZOFFSETTO:+1000
TZNAME:AEST
DTSTART:20230401T160000
END:STANDARD
BEGIN:DAYLIGHT
TZOFFSETFROM:+1000
TZOFFSETTO:+1100
TZNAME:AEDT
DTSTART:20230930T160000
END:DAYLIGHT
END:VTIMEZONE
BEGIN:VEVENT
DTSTART;TZID=Australia/Melbourne:20220910T090000
DTEND;TZID=Australia/Melbourne:20220910T110000
DTSTAMP:20260421T222357
CREATED:20220822T020156Z
LAST-MODIFIED:20220830T042547Z
UID:10000086-1662800400-1662807600@www.parklands-alburywodonga.org.au
SUMMARY:Friends of the Kiewa River - Killara working bee cancelled due to flooding
DESCRIPTION:Event Date: Saturday 10th September \nAs a follow up to our guided River walks\, Parklands invite interested community members to participate in a short working bee improving the habitat value of the Kiewa River. \nCome and explore the Kiewa river parklands\, contribute to biodiversity conservation\, and see if you can spot any rakali as we work! \n\nWhere:  Directions on Humanitix registration site.\nWhat to expect: We ask our River Stewards to do whatever is of interest on the day. Jobs to be done include removing a small volume of environmental woody weeds\, stripping redundant fencing and preparing for for planting. There will be options to match your capacity and interest\, and light duty roles are many.\nWhat to bring: Participants must wear covered shoes (boots) and long pants at all sessions\, preferably long sleeves as well\, and bring your own hat and water bottle. Current Covid safety measures must also be followed.\nWhat is provided:  All tools\, materials and personal protective equipment is provided as is Ranger induction and session leadership.\n\nRegistration prior to the event is essential for communication and safety purposes. REGISTER HERE
URL:https://www.parklands-alburywodonga.org.au/event/friends-of-the-kiewa-river-killara-working-bee/
LOCATION:Kiewa River Walking Track North\, Kiewa River Walking Track North\, Bandiana\, VIC\, 3691\, Australia
ATTACH;FMTTYPE=image/webp:https://www.parklands-alburywodonga.org.au/wp-content/uploads/2022/08/kiewa-river.webp
ORGANIZER;CN="Parklands Albury Wodonga":MAILTO:info@parklands-alburywodonga.org.au
END:VEVENT
END:VCALENDAR