BEGIN:VCALENDAR
VERSION:2.0
PRODID:-//Parklands Albury Wodonga - ECPv6.15.20//NONSGML v1.0//EN
CALSCALE:GREGORIAN
METHOD:PUBLISH
X-ORIGINAL-URL:https://www.parklands-alburywodonga.org.au
X-WR-CALDESC:Events for Parklands Albury Wodonga
REFRESH-INTERVAL;VALUE=DURATION:PT1H
X-Robots-Tag:noindex
X-PUBLISHED-TTL:PT1H
BEGIN:VTIMEZONE
TZID:Australia/Melbourne
BEGIN:STANDARD
TZOFFSETFROM:+1100
TZOFFSETTO:+1000
TZNAME:AEST
DTSTART:20240406T160000
END:STANDARD
BEGIN:DAYLIGHT
TZOFFSETFROM:+1000
TZOFFSETTO:+1100
TZNAME:AEDT
DTSTART:20241005T160000
END:DAYLIGHT
BEGIN:STANDARD
TZOFFSETFROM:+1100
TZOFFSETTO:+1000
TZNAME:AEST
DTSTART:20250405T160000
END:STANDARD
BEGIN:DAYLIGHT
TZOFFSETFROM:+1000
TZOFFSETTO:+1100
TZNAME:AEDT
DTSTART:20251004T160000
END:DAYLIGHT
BEGIN:STANDARD
TZOFFSETFROM:+1100
TZOFFSETTO:+1000
TZNAME:AEST
DTSTART:20260404T160000
END:STANDARD
BEGIN:DAYLIGHT
TZOFFSETFROM:+1000
TZOFFSETTO:+1100
TZNAME:AEDT
DTSTART:20261003T160000
END:DAYLIGHT
END:VTIMEZONE
BEGIN:VEVENT
DTSTART;TZID=Australia/Melbourne:20251113T090000
DTEND;TZID=Australia/Melbourne:20251113T110000
DTSTAMP:20260421T220701
CREATED:20251006T053059Z
LAST-MODIFIED:20251006T053059Z
UID:10000427-1763024400-1763031600@www.parklands-alburywodonga.org.au
SUMMARY:Little Black Springs Community Stewardship Morning
DESCRIPTION:Join Parklands Rangers to help find and remove woody weeds such as privet\, cherry plum\, hawthorn\, and olive in this beautiful reserve. \nThis is an opportunity to work alongside our Rangers experiencing the ‘how to’ of caring for our local bush.  No experience is necessary – our Rangers will help with weed identification and removal techniques. \nTake in the fresh air\, get close to nature\, and learn about the local environment and how Albury City and community groups are working to protect threatened species\, improve habitat\, and link habitat corridors across the region. \nPlease check the Google Maps link below for the meeting place. \nWhen: 9:00 am to 11:00 am (2 hrs) \nWhere: Meet on Solander St. \nWhat is supplied: All tools and any specific safety equipment needed. \nWhat to bring: BYO drinking water. For your safety\, please wear covered shoes (preferably boots)\, long pants\, long sleeves\, and a hat. \nWho: You can contact Ranger Dan on 0417501352. \nPlease register here! Sometimes things change at the last minute and we need to be able to contact volunteers. \nThank you to Albury City Council for financial support for this program.
URL:https://www.parklands-alburywodonga.org.au/event/little-black-springs-community-stewardship-morning/
LOCATION:Little Black Springs\, Solander St.\, North Albury\, Australia
ORGANIZER;CN="Parklands Albury Wodonga":MAILTO:info@parklands-alburywodonga.org.au
END:VEVENT
END:VCALENDAR