BEGIN:VCALENDAR
VERSION:2.0
PRODID:-//Parklands Albury Wodonga - ECPv6.15.20//NONSGML v1.0//EN
CALSCALE:GREGORIAN
METHOD:PUBLISH
X-WR-CALNAME:Parklands Albury Wodonga
X-ORIGINAL-URL:https://www.parklands-alburywodonga.org.au
X-WR-CALDESC:Events for Parklands Albury Wodonga
REFRESH-INTERVAL;VALUE=DURATION:PT1H
X-Robots-Tag:noindex
X-PUBLISHED-TTL:PT1H
BEGIN:VTIMEZONE
TZID:Australia/Melbourne
BEGIN:STANDARD
TZOFFSETFROM:+1100
TZOFFSETTO:+1000
TZNAME:AEST
DTSTART:20230401T160000
END:STANDARD
BEGIN:DAYLIGHT
TZOFFSETFROM:+1000
TZOFFSETTO:+1100
TZNAME:AEDT
DTSTART:20230930T160000
END:DAYLIGHT
BEGIN:STANDARD
TZOFFSETFROM:+1100
TZOFFSETTO:+1000
TZNAME:AEST
DTSTART:20240406T160000
END:STANDARD
BEGIN:DAYLIGHT
TZOFFSETFROM:+1000
TZOFFSETTO:+1100
TZNAME:AEDT
DTSTART:20241005T160000
END:DAYLIGHT
BEGIN:STANDARD
TZOFFSETFROM:+1100
TZOFFSETTO:+1000
TZNAME:AEST
DTSTART:20250405T160000
END:STANDARD
BEGIN:DAYLIGHT
TZOFFSETFROM:+1000
TZOFFSETTO:+1100
TZNAME:AEDT
DTSTART:20251004T160000
END:DAYLIGHT
BEGIN:STANDARD
TZOFFSETFROM:+1100
TZOFFSETTO:+1000
TZNAME:AEST
DTSTART:20260404T160000
END:STANDARD
BEGIN:DAYLIGHT
TZOFFSETFROM:+1000
TZOFFSETTO:+1100
TZNAME:AEDT
DTSTART:20261003T160000
END:DAYLIGHT
END:VTIMEZONE
BEGIN:VEVENT
DTSTART;TZID=Australia/Melbourne:20250911T090000
DTEND;TZID=Australia/Melbourne:20250911T110000
DTSTAMP:20260424T133011
CREATED:20250829T050848Z
LAST-MODIFIED:20250910T030605Z
UID:10000416-1757581200-1757588400@www.parklands-alburywodonga.org.au
SUMMARY:Monument Hill Community Stewardship Morning
DESCRIPTION:Join Parklands Rangers to help find and remove invasive lavender and woody weeds such as genista and false acacia in this beautiful reserve. \nThis is an opportunity to work alongside our Rangers experiencing the ‘how to’ of caring for our local bush.  No experience is necessary – our Rangers will help with weed identification and removal techniques. \nTake in the fresh air\, get close to nature\, and learn about the local environment and how Albury City and community groups are working to protect threatened species\, improve habitat\, and link habitat corridors across the region. \nWhen: 9:00 am to 11:00 am (2 hrs). \nWhere: Meet at the Monument Hill memorial carpark on Roper St. \nWhat is supplied: All tools and any specific safety equipment needed. \nWhat to bring: BYO drinking water. For your safety\, please wear covered shoes (preferably boots)\, long pants\, long sleeves\, and a hat. \nPlease register here!  Sometimes things change at the last minute and we need to be able to contact volunteers. \nThank you to Albury City Council for the financial support for this program.
URL:https://www.parklands-alburywodonga.org.au/event/monument-hill-community-stewardship-morning-6/
LOCATION:Monument Hill\, Roper St. car park\, Albury\, Australia
ATTACH;FMTTYPE=image/jpeg:https://www.parklands-alburywodonga.org.au/wp-content/uploads/2025/08/View-to-Monument-Hill-1200px.jpg
ORGANIZER;CN="Parklands Albury Wodonga":MAILTO:info@parklands-alburywodonga.org.au
END:VEVENT
BEGIN:VEVENT
DTSTART;TZID=Australia/Melbourne:20250529T090000
DTEND;TZID=Australia/Melbourne:20250529T110000
DTSTAMP:20260424T133011
CREATED:20250214T041901Z
LAST-MODIFIED:20250214T041901Z
UID:10000354-1748509200-1748516400@www.parklands-alburywodonga.org.au
SUMMARY:Monument Hill Community Stewardship Morning
DESCRIPTION:Join Parklands Rangers to help find and remove invasive lavender and woody weeds such as privet\, olive\, cherry plum\, and honey locust in this beautiful reserve. \nThis is an opportunity to work alongside our Rangers experiencing the ‘how to’ of caring for our local bush.  No experience is necessary – our Rangers will help with weed identification and removal techniques. \nTake in the fresh air\, get close to nature\, and learn about the local environment and how Albury City and community groups are working to protect threatened species\, improve habitat\, and link habitat corridors across the region. \nWhen: 9:00 am to 11:00 am (2 hrs) \nWhere: Meet at the Monument Hill memorial carpark on Roper St. \nWhat is supplied: All tools and any specific safety equipment needed. \nWhat to bring: BYO drinking water. For your safety\, please wear covered shoes (preferably boots)\, long pants\, long sleeves\, and a hat. \nPlease register here! Sometimes things change at the last minute and we need to be able to contact volunteers. \nThank you to Albury City Council for financial support for this program.
URL:https://www.parklands-alburywodonga.org.au/event/monument-hill-community-stewardship-morning-5/
LOCATION:Monument Hill\, Roper St. car park\, Albury\, Australia
ATTACH;FMTTYPE=image/jpeg:https://www.parklands-alburywodonga.org.au/wp-content/uploads/2025/02/View-to-Monument-Hill-1200px.jpg
ORGANIZER;CN="Parklands Albury Wodonga":MAILTO:info@parklands-alburywodonga.org.au
END:VEVENT
BEGIN:VEVENT
DTSTART;TZID=Australia/Melbourne:20250508T090000
DTEND;TZID=Australia/Melbourne:20250508T110000
DTSTAMP:20260424T133011
CREATED:20250214T041801Z
LAST-MODIFIED:20250214T041801Z
UID:10000351-1746694800-1746702000@www.parklands-alburywodonga.org.au
SUMMARY:Monument Hill Community Stewardship Morning
DESCRIPTION:Join Parklands Rangers to help find and remove invasive lavender and woody weeds such as privet\, olive\, cherry plum\, and honey locust in this beautiful reserve. \nThis is an opportunity to work alongside our Rangers experiencing the ‘how to’ of caring for our local bush.  No experience is necessary – our Rangers will help with weed identification and removal techniques. \nTake in the fresh air\, get close to nature\, and learn about the local environment and how Albury City and community groups are working to protect threatened species\, improve habitat\, and link habitat corridors across the region. \nWhen: 9:00 am to 11:00 am (2 hrs) \nWhere: Meet at the Monument Hill memorial carpark on Roper St. \nWhat is supplied: All tools and any specific safety equipment needed. \nWhat to bring: BYO drinking water. For your safety\, please wear covered shoes (preferably boots)\, long pants\, long sleeves\, and a hat. \nPlease register here! Sometimes things change at the last minute and we need to be able to contact volunteers. \nThank you to Albury City Council for financial support for this program.
URL:https://www.parklands-alburywodonga.org.au/event/monument-hill-community-stewardship-morning-4/
LOCATION:Monument Hill\, Roper St. car park\, Albury\, Australia
ATTACH;FMTTYPE=image/jpeg:https://www.parklands-alburywodonga.org.au/wp-content/uploads/2025/02/View-to-Monument-Hill-1200px.jpg
ORGANIZER;CN="Parklands Albury Wodonga":MAILTO:info@parklands-alburywodonga.org.au
END:VEVENT
BEGIN:VEVENT
DTSTART;TZID=Australia/Melbourne:20241017T090000
DTEND;TZID=Australia/Melbourne:20241017T110000
DTSTAMP:20260424T133011
CREATED:20240917T033850Z
LAST-MODIFIED:20240917T033850Z
UID:10000282-1729155600-1729162800@www.parklands-alburywodonga.org.au
SUMMARY:Monument Hill Community Stewardship Morning
DESCRIPTION:Join Parklands Rangers to help find and remove invasive lavender and woody weeds such as privet\, olive\, cherry plum\, and honey locust in this beautiful reserve. \nThis is an opportunity to work alongside our Rangers experiencing the ‘how to’ of caring for our local bush.  No experience is necessary – our Rangers will help with weed identification and removal techniques. \nTake in the fresh air\, get close to nature\, and learn about the local environment and how Albury City and community groups are working to protect threatened species\, improve habitat\, and link habitat corridors across the region. \nWhen: 9:00 am to 11:00 am (2 hrs) \nWhere: Meet at the Monument Hill memorial carpark on Roper St. \nWhat is supplied: All tools and any specific safety equipment needed. \nWhat to bring: BYO drinking water. For your safety\, please wear covered shoes (preferably boots)\, long pants\, long sleeves\, and a hat. \nPlease register here! Sometimes things change at the last minute and we need to be able to contact volunteers. \nThank you to Albury City Council for financial support for this program.
URL:https://www.parklands-alburywodonga.org.au/event/monument-hill-community-stewardship-morning-2/
LOCATION:Monument Hill\, Roper St. car park\, Albury\, Australia
ATTACH;FMTTYPE=image/jpeg:https://www.parklands-alburywodonga.org.au/wp-content/uploads/2024/09/View-to-Monument-Hill-1200px.jpg
ORGANIZER;CN="Parklands Albury Wodonga":MAILTO:info@parklands-alburywodonga.org.au
END:VEVENT
BEGIN:VEVENT
DTSTART;TZID=Australia/Melbourne:20241003T090000
DTEND;TZID=Australia/Melbourne:20241003T110000
DTSTAMP:20260424T133011
CREATED:20240917T033918Z
LAST-MODIFIED:20240926T215835Z
UID:10000280-1727946000-1727953200@www.parklands-alburywodonga.org.au
SUMMARY:Monument Hill Community Stewardship Morning
DESCRIPTION:Join Parklands Rangers to help find and remove invasive lavender and woody weeds such as privet\, olive\, cherry plum\, and honey locust in this beautiful reserve. \nThis is an opportunity to work alongside our Rangers experiencing the ‘how to’ of caring for our local bush.  No experience is necessary – our Rangers will help with weed identification and removal techniques. \nTake in the fresh air\, get close to nature\, and learn about the local environment and how Albury City and community groups are working to protect threatened species\, improve habitat\, and link habitat corridors across the region. \nWhen: 9:00 am to 11:00 am (2 hrs) \nWhere: Meet at the Monument Hill memorial carpark on Roper St. \nWhat is supplied: All tools and any specific safety equipment needed. \nWhat to bring: BYO drinking water. For your safety\, please wear covered shoes (preferably boots)\, long pants\, long sleeves\, and a hat. \nPlease register here! Sometimes things change at the last minute and we need to be able to contact volunteers. \nThank you to Albury City Council for financial support for this program.
URL:https://www.parklands-alburywodonga.org.au/event/monument-hill-community-stewardship-morning-3/
LOCATION:Monument Hill\, Roper St. car park\, Albury\, Australia
ATTACH;FMTTYPE=image/jpeg:https://www.parklands-alburywodonga.org.au/wp-content/uploads/2024/09/View-to-Monument-Hill-1200px.jpg
ORGANIZER;CN="Parklands Albury Wodonga":MAILTO:info@parklands-alburywodonga.org.au
END:VEVENT
END:VCALENDAR