BEGIN:VCALENDAR
VERSION:2.0
PRODID:-//Parklands Albury Wodonga - ECPv6.15.20//NONSGML v1.0//EN
CALSCALE:GREGORIAN
METHOD:PUBLISH
X-ORIGINAL-URL:https://www.parklands-alburywodonga.org.au
X-WR-CALDESC:Events for Parklands Albury Wodonga
REFRESH-INTERVAL;VALUE=DURATION:PT1H
X-Robots-Tag:noindex
X-PUBLISHED-TTL:PT1H
BEGIN:VTIMEZONE
TZID:Australia/Melbourne
BEGIN:STANDARD
TZOFFSETFROM:+1100
TZOFFSETTO:+1000
TZNAME:AEST
DTSTART:20230401T160000
END:STANDARD
BEGIN:DAYLIGHT
TZOFFSETFROM:+1000
TZOFFSETTO:+1100
TZNAME:AEDT
DTSTART:20230930T160000
END:DAYLIGHT
BEGIN:STANDARD
TZOFFSETFROM:+1100
TZOFFSETTO:+1000
TZNAME:AEST
DTSTART:20240406T160000
END:STANDARD
BEGIN:DAYLIGHT
TZOFFSETFROM:+1000
TZOFFSETTO:+1100
TZNAME:AEDT
DTSTART:20241005T160000
END:DAYLIGHT
BEGIN:STANDARD
TZOFFSETFROM:+1100
TZOFFSETTO:+1000
TZNAME:AEST
DTSTART:20250405T160000
END:STANDARD
BEGIN:DAYLIGHT
TZOFFSETFROM:+1000
TZOFFSETTO:+1100
TZNAME:AEDT
DTSTART:20251004T160000
END:DAYLIGHT
BEGIN:STANDARD
TZOFFSETFROM:+1100
TZOFFSETTO:+1000
TZNAME:AEST
DTSTART:20260404T160000
END:STANDARD
BEGIN:DAYLIGHT
TZOFFSETFROM:+1000
TZOFFSETTO:+1100
TZNAME:AEDT
DTSTART:20261003T160000
END:DAYLIGHT
END:VTIMEZONE
BEGIN:VEVENT
DTSTART;TZID=Australia/Melbourne:20251120T090000
DTEND;TZID=Australia/Melbourne:20251120T110000
DTSTAMP:20260420T190550
CREATED:20251006T053738Z
LAST-MODIFIED:20251006T053738Z
UID:10000433-1763629200-1763636400@www.parklands-alburywodonga.org.au
SUMMARY:Vickers Road Reserve Community Stewardship Morning
DESCRIPTION:Join Parklands Rangers to help find and remove woody weeds such as Cootamundra wattle in this beautiful reserve. \nThis is an opportunity to work alongside our Rangers experiencing the ‘how to’ of caring for our local bush.  No experience is necessary – our Rangers will help with weed identification and removal techniques. \nTake in the fresh air\, get close to nature\, and learn about the local environment and how Albury City and community groups are working to protect threatened species\, improve habitat\, and link habitat corridors across the region. \nPlease check the Google Maps link below for the meeting place. \nWhen: 9:00 am to 11:00 am (2 hrs) \nWhere: Meet at the gate off Vickers Rd. \nWhat is supplied: All tools and any specific safety equipment needed. \nWhat to bring: BYO drinking water. For your safety\, please wear covered shoes (preferably boots)\, long pants\, long sleeves\, and a hat. \nWho: You can contact Ranger Dan on 0417501352. \nPlease register here! Sometimes things change at the last minute and we need to be able to contact volunteers. \nThank you to Albury City Council for financial support for this program.
URL:https://www.parklands-alburywodonga.org.au/event/vickers-road-reserve-community-stewardship-morning-6/
LOCATION:Vickers Road Reserve\, Vickers Rd.\, Lavington\, Australia
ATTACH;FMTTYPE=image/jpeg:https://www.parklands-alburywodonga.org.au/wp-content/uploads/2025/10/Vickers-Rd-reserve-scaled.jpg
ORGANIZER;CN="Parklands Albury Wodonga":MAILTO:info@parklands-alburywodonga.org.au
END:VEVENT
BEGIN:VEVENT
DTSTART;TZID=Australia/Melbourne:20251030T090000
DTEND;TZID=Australia/Melbourne:20251030T110000
DTSTAMP:20260420T190550
CREATED:20250910T041249Z
LAST-MODIFIED:20250910T041249Z
UID:10000424-1761814800-1761822000@www.parklands-alburywodonga.org.au
SUMMARY:Vickers Road Reserve Community Stewardship Morning
DESCRIPTION:Join Parklands Rangers to help find and remove woody weeds such as Cootamundra wattle in this beautiful reserve. \nThis is an opportunity to work alongside our Rangers experiencing the ‘how to’ of caring for our local bush.  No experience is necessary – our Rangers will help with weed identification and removal techniques. \nTake in the fresh air\, get close to nature\, and learn about the local environment and how Albury City and community groups are working to protect threatened species\, improve habitat\, and link habitat corridors across the region. \nWhen: 9:00 am to 11:00 am (2 hrs) \nWhere: Meet at the gate off Vickers Rd. \nWhat is supplied: All tools and any specific safety equipment needed. \nWhat to bring: BYO drinking water. For your safety\, please wear covered shoes (preferably boots)\, long pants\, long sleeves\, and a hat. \nWho: You can contact Ranger Dan on 0417501352. \nPlease register here! Sometimes things change at the last minute and we need to be able to contact volunteers. \nThank you to Albury City Council for financial support for this program.
URL:https://www.parklands-alburywodonga.org.au/event/vickers-road-reserve-community-stewardship-morning-5/
LOCATION:Vickers Road Reserve\, Vickers Rd.\, Lavington\, Australia
ATTACH;FMTTYPE=image/jpeg:https://www.parklands-alburywodonga.org.au/wp-content/uploads/2025/09/Vickers-Rd-reserve-small-scaled.jpg
ORGANIZER;CN="Parklands Albury Wodonga":MAILTO:info@parklands-alburywodonga.org.au
END:VEVENT
BEGIN:VEVENT
DTSTART;TZID=Australia/Melbourne:20250605T090000
DTEND;TZID=Australia/Melbourne:20250605T110000
DTSTAMP:20260420T190550
CREATED:20250214T041920Z
LAST-MODIFIED:20250411T050432Z
UID:10000355-1749114000-1749121200@www.parklands-alburywodonga.org.au
SUMMARY:SER 'Make a Difference Week' Vickers Road Reserve Community Stewardship Morning
DESCRIPTION:We invite you to be a part of the Society for Ecological Restoration’s ‘Make a Difference Week’. This annual week of global restoration action encourages volunteers to positively impact their local communities by engaging with restoration projects. \nJoin Parklands Rangers to help find and remove woody weeds such as privet\, olive\, cherry plum\, ornamental pear\, and briar rose in this beautiful reserve. \nThis is an opportunity to work alongside our Rangers experiencing the ‘how to’ of caring for our local bush.  No experience is necessary – our Rangers will help with weed identification and removal techniques. \nTake in the fresh air\, get close to nature\, and learn about the local environment and how Albury City and community groups are working to protect threatened species\, improve habitat\, and link habitat corridors across the region. \nWhen: 9:00 am to 11:00 am (2 hrs) \nWhere: Meet at the gate off Vickers Rd. \nWhat is supplied: All tools and any specific safety equipment needed. \nWhat to bring: BYO drinking water. For your safety\, please wear covered shoes (preferably boots)\, long pants\, long sleeves\, and a hat. \nWho: You can contact Ranger Dan on 0417501352. \nPlease register here! Sometimes things change at the last minute and we need to be able to contact volunteers. \nThank you to Albury City Council for financial support for this program.
URL:https://www.parklands-alburywodonga.org.au/event/vickers-road-reserve-community-stewardship-morning-2/
LOCATION:Vickers Road Reserve\, Vickers Rd.\, Lavington\, Australia
ATTACH;FMTTYPE=image/png:https://www.parklands-alburywodonga.org.au/wp-content/uploads/2025/02/SER-featured-image.png
ORGANIZER;CN="Parklands Albury Wodonga":MAILTO:info@parklands-alburywodonga.org.au
END:VEVENT
BEGIN:VEVENT
DTSTART;TZID=Australia/Melbourne:20241212T090000
DTEND;TZID=Australia/Melbourne:20241212T110000
DTSTAMP:20260420T190550
CREATED:20240926T223748Z
LAST-MODIFIED:20241019T022252Z
UID:10000299-1733994000-1734001200@www.parklands-alburywodonga.org.au
SUMMARY:Vickers Road Reserve Community Stewardship Morning
DESCRIPTION:Join Parklands Rangers to help find and remove woody weeds such as privet\, olive\, cherry plum\, ornamental pear\, and briar rose in this beautiful reserve. \nThis is an opportunity to work alongside our Rangers experiencing the ‘how to’ of caring for our local bush.  No experience is necessary – our Rangers will help with weed identification and removal techniques. \nTake in the fresh air\, get close to nature\, and learn about the local environment and how Albury City and community groups are working to protect threatened species\, improve habitat\, and link habitat corridors across the region. \nWhen: 9:00 am to 11:00 am (2 hrs) \nWhere: Meet at the gate off Vickers Rd. \nWhat is supplied: All tools and any specific safety equipment needed. \nWhat to bring: BYO drinking water. For your safety\, please wear covered shoes (preferably boots)\, long pants\, long sleeves\, and a hat. \nWho: You can contact Ranger Dan on 0417501352. \nPlease register here! Sometimes things change at the last minute and we need to be able to contact volunteers. \nThank you to Albury City Council for financial support for this program.
URL:https://www.parklands-alburywodonga.org.au/event/vickers-road-reserve-community-stewardship-morning/
LOCATION:Vickers Road Reserve\, Vickers Rd.\, Lavington\, Australia
ATTACH;FMTTYPE=image/jpeg:https://www.parklands-alburywodonga.org.au/wp-content/uploads/2024/09/Vickers-Rd-reserve-scaled.jpg
END:VEVENT
END:VCALENDAR